BEGIN:VCALENDAR
VERSION:2.0
PRODID:-//jEvents 2.0 for Joomla//EN
CALSCALE:GREGORIAN
METHOD:PUBLISH
BEGIN:VTIMEZONE
TZID:Europe/London
BEGIN:STANDARD
DTSTART:20241027T010000
RDATE:20250330T020000
TZOFFSETFROM:+0100
TZOFFSETTO:+0000
TZNAME:Europe/London GMT
END:STANDARD
BEGIN:STANDARD
DTSTART:20251026T010000
RDATE:20260329T020000
TZOFFSETFROM:+0100
TZOFFSETTO:+0000
TZNAME:Europe/London GMT
END:STANDARD
BEGIN:STANDARD
DTSTART:20261025T010000
RDATE:20270328T020000
TZOFFSETFROM:+0100
TZOFFSETTO:+0000
TZNAME:Europe/London GMT
END:STANDARD
BEGIN:STANDARD
DTSTART:20271031T010000
RDATE:20280326T020000
TZOFFSETFROM:+0100
TZOFFSETTO:+0000
TZNAME:Europe/London GMT
END:STANDARD
BEGIN:STANDARD
DTSTART:20281029T010000
RDATE:20290325T020000
TZOFFSETFROM:+0100
TZOFFSETTO:+0000
TZNAME:Europe/London GMT
END:STANDARD
BEGIN:STANDARD
DTSTART:20291028T010000
RDATE:20300331T020000
TZOFFSETFROM:+0100
TZOFFSETTO:+0000
TZNAME:Europe/London GMT
END:STANDARD
BEGIN:STANDARD
DTSTART:20301027T010000
RDATE:20310330T020000
TZOFFSETFROM:+0100
TZOFFSETTO:+0000
TZNAME:Europe/London GMT
END:STANDARD
BEGIN:STANDARD
DTSTART:20311026T010000
RDATE:20320328T020000
TZOFFSETFROM:+0100
TZOFFSETTO:+0000
TZNAME:Europe/London GMT
END:STANDARD
BEGIN:DAYLIGHT
DTSTART:20240526T193000
RDATE:20241027T010000
TZOFFSETFROM:+0000
TZOFFSETTO:+0100
TZNAME:Europe/London BST
END:DAYLIGHT
BEGIN:DAYLIGHT
DTSTART:20250330T020000
RDATE:20251026T010000
TZOFFSETFROM:+0000
TZOFFSETTO:+0100
TZNAME:Europe/London BST
END:DAYLIGHT
BEGIN:DAYLIGHT
DTSTART:20260329T020000
RDATE:20261025T010000
TZOFFSETFROM:+0000
TZOFFSETTO:+0100
TZNAME:Europe/London BST
END:DAYLIGHT
BEGIN:DAYLIGHT
DTSTART:20270328T020000
RDATE:20271031T010000
TZOFFSETFROM:+0000
TZOFFSETTO:+0100
TZNAME:Europe/London BST
END:DAYLIGHT
BEGIN:DAYLIGHT
DTSTART:20280326T020000
RDATE:20281029T010000
TZOFFSETFROM:+0000
TZOFFSETTO:+0100
TZNAME:Europe/London BST
END:DAYLIGHT
BEGIN:DAYLIGHT
DTSTART:20290325T020000
RDATE:20291028T010000
TZOFFSETFROM:+0000
TZOFFSETTO:+0100
TZNAME:Europe/London BST
END:DAYLIGHT
BEGIN:DAYLIGHT
DTSTART:20300331T020000
RDATE:20301027T010000
TZOFFSETFROM:+0000
TZOFFSETTO:+0100
TZNAME:Europe/London BST
END:DAYLIGHT
BEGIN:DAYLIGHT
DTSTART:20310330T020000
RDATE:20311026T010000
TZOFFSETFROM:+0000
TZOFFSETTO:+0100
TZNAME:Europe/London BST
END:DAYLIGHT
END:VTIMEZONE
BEGIN:VEVENT
UID:b7b064949b535e3c0675f08897d98394
CATEGORIES:pglrw
CREATED:20250527T112507
SUMMARY:Sponsored Walk for Prostate Scotland Greenock St Johns 175 Saturday 31/5/25
LOCATION:From Largs St Johns 173 Largs to 175 Greenock
URL;VALUE=URI:http://www.pglrw.org/index.php/events/current-events/eventdetail/481/-/spon
 sored-walk-for-prostate-scotland-greenock-st-johns-175-saturday-31-5-25?tmp
 l=component
DESCRIPTION:Sponsored walk in aid of prostate Scotland .On Saturday 31 May brethren of 
 Greenock St John’s no 175 plan to walk from the temple of Largs St John’s n
 o 173 to their own temple via the Old Largs Road , “across the moor road”It
  is undulating terrain and approximately 15 miles .Donations can be made to
  any brother of 175 , or on the day prior to departure at 0900 or at Greeno
 ck St John’s temple west Stewart street in Greenock . Or preferably by bank
  transfer to the lodge 175 bank account.Lodge Greenock St Johns No17580-08-
 2100924589using the word walk as a reference.Please support all efforts for
  this great cause .Paul DochertyDPGM
X-ALT-DESC;FMTTYPE=text/html:<div class="x11i5rnm xat24cr x1mh8g0r x1vvkbs xtlvy1s x126k92a"><div dir="a
 uto">Sponsored walk in aid of prostate Scotland .</div></div><div class="x1
 1i5rnm xat24cr x1mh8g0r x1vvkbs xtlvy1s x126k92a"><div dir="auto">On Saturd
 ay 31 May brethren of Greenock St John’s no 175 plan to walk from the templ
 e of Largs St John’s no 173 to their own temple via the Old Largs Road , “a
 cross the moor road”</div></div><div class="x11i5rnm xat24cr x1mh8g0r x1vvk
 bs xtlvy1s x126k92a"><div dir="auto">It is undulating terrain and approxima
 tely 15 miles .</div></div><div class="x11i5rnm xat24cr x1mh8g0r x1vvkbs xt
 lvy1s x126k92a"><div dir="auto">Donations can be made to any brother of 175
  , or on the day prior to departure at 0900 or at Greenock St John’s temple
  west Stewart street in Greenock . Or preferably by bank transfer to the lo
 dge 175 bank account.</div></div><div class="x11i5rnm xat24cr x1mh8g0r x1vv
 kbs xtlvy1s x126k92a"><div dir="auto">Lodge Greenock St Johns No175</div></
 div><div class="x11i5rnm xat24cr x1mh8g0r x1vvkbs xtlvy1s x126k92a"><div di
 r="auto">80-08-21</div></div><div class="x11i5rnm xat24cr x1mh8g0r x1vvkbs 
 xtlvy1s x126k92a"><div dir="auto">00924589</div></div><div class="x11i5rnm 
 xat24cr x1mh8g0r x1vvkbs xtlvy1s x126k92a"><div dir="auto">using the word w
 alk as a reference.</div></div><div class="x11i5rnm xat24cr x1mh8g0r x1vvkb
 s xtlvy1s x126k92a"><div dir="auto">Please support all efforts for this gre
 at cause .</div><div>Paul Docherty</div><div>DPGM</div></div>
DTSTAMP:20260419T223537Z
DTSTART;TZID=Europe/London:20250527T193000
DTEND;TZID=Europe/London:20250527T223000
SEQUENCE:0
TRANSP:OPAQUE
END:VEVENT
END:VCALENDAR